BEGIN:VCALENDAR
VERSION:2.0
METHOD:PUBLISH
PRODID::-//Obvius//NONSGML ICal//DA
BEGIN:VEVENT
UID:5030215@vetschool.ku.dk
DESCRIPTION:Predicting vector-borne disease risk under climate change - Im
 pacts across Africa and Europe\n\nhttps://healthsciences.ku.dk/phd/calenda
 r/q2---2026/phd-defence-tiem-jacob-van-der-deure/
SUMMARY:PhD defence: Tiem Jacob van der Deure
CATEGORIES:Ph.d.-forsvar
LOCATION:Hybrid defence
DTSTART:20260508T120000Z
DTSTAMP:20260508T120000Z
DTEND:20260508T150000Z
END:VEVENT
BEGIN:VEVENT
UID:5030182@vetschool.ku.dk
DESCRIPTION:Osteolysis in Bone Infections\n\nhttps://healthsciences.ku.dk/
 phd/calendar/q2---2026/phd-defence-anton-alexander-nolte-peterlin/
SUMMARY:PhD defence: Anton Alexander Nolte Peterlin
CATEGORIES:Ph.d.-forsvar
LOCATION:Building 1-64\, Det Patoanatomiske Teater (sektionssalen)\, Rideb
 anevej 3\, 1870 Frederiksberg
DTSTART:20260511T120000Z
DTSTAMP:20260511T120000Z
DTEND:20260511T150000Z
END:VEVENT
END:VCALENDAR
